BEGIN:VCALENDAR
VERSION:2.0
PRODID:-//wp-events-plugin.com//7.2.3.1//EN
TZID:Europe/Berlin
X-WR-TIMEZONE:Europe/Berlin
BEGIN:VEVENT
UID:123@jan-niklas-spiegel.de
DTSTART;TZID=Europe/Berlin:20210318T133000
DTEND;TZID=Europe/Berlin:20210318T150000
DTSTAMP:20210225T204157Z
URL:https://jan-niklas-spiegel.de/events/onlinekurs-hebammenfortbildung-5/
SUMMARY:ONLINEKURS Hebammenfortbildung
DESCRIPTION:\n\nZum Jahreswechsel wurde die neue Leitlinie "Vaginale Geburt
  am Termin" publiziert.\nViele neue Forschungsergebnisse wurden in Handlun
 gsempfehlungen formuliert und geben Anweisungen für den geburtshilflichen
  Alltag.\n\nInsbesondere die Betreuung des Neugeborenen bei Geburtskomplik
 ationen stellt hier immer wieder eine große Herausforderung dar\, weswege
 n hierauf der Fokus der Fortbildung gelegt wurde.\nDarüber hinaus greift 
 der Onlinekurs die häufigsten pädiatrischen Notfälle\, wie zum Beispiel
  den Fieberkrampf\, Epiglottitis\, Pseudokrupp\, Asthma und Vergiftungen a
 uf.\nSelbstverständlich ist aber auch der Austausch untereinander sehr we
 rtvoll um Erfahrungen auszutauschen und neue Impulse für die tägliche Ar
 beit mitzunehmen\, sodass auch dafür Raum ist.\n\nNutzen Sie die Möglich
 keit sofort anwendbares Wissen zu bekommen und Fragen zu stellen . . . gan
 z bequem von zu Hause.\n\nInhalte:\n\n 	Leitlinie "Vaginale Geburt am Term
 in" (Stand 12/20)\nKapitel 9.5 Betreuung des Neugeborenen\n 	Pädiatrische
  Notfälle\n- Fieberkrampf\n- Epiglottitis\n- Pseudokrupp\n- Asthma\n- Ver
 giftungen\n 	Fragerunde und kollegialer Austausch\n\nAblauf:\n\n 	Anmeldun
 g über untenstehendes Buchungsformular\n 	Erhalt einer personalisierten R
 echnung per Mail\n 	Nach Zahlungseingang Einladung zum Onlinekurs\n 	Im An
 schluss an den Kurs erhalten Sie das Zertifikat als PDF per Mail.\n\nZerti
 fiziert gemäß §7 HebBO NRW mit 2 Notfallstunden.\n\nDer Onlinekurs erf
 üllt die Vorgaben der Bundesländer zur Durchführung von Hebammenfortbil
 dungen.\n\nAnmeldeschluss:&nbsp\;&nbsp\;&nbsp\;&nbsp\;&nbsp\;&nbsp\; 16. M
 ärz 2021
END:VEVENT
BEGIN:VTIMEZONE
TZID:Europe/Berlin
X-LIC-LOCATION:Europe/Berlin
BEGIN:STANDARD
DTSTART:20201025T020000
TZOFFSETFROM:+0200
TZOFFSETTO:+0100
TZNAME:CET
END:STANDARD
END:VTIMEZONE
END:VCALENDAR