BEGIN:VCALENDAR
VERSION:2.0
PRODID:-//wp-events-plugin.com//7.2.3.1//EN
TZID:Europe/Berlin
X-WR-TIMEZONE:Europe/Berlin
BEGIN:VEVENT
UID:18@jan-niklas-spiegel.de
DTSTART;TZID=Europe/Berlin:20191114T170000
DTEND;TZID=Europe/Berlin:20191114T200000
DTSTAMP:20191022T145618Z
URL:https://jan-niklas-spiegel.de/events/kindernotfalltraining-7/
SUMMARY:Kindernotfalltraining
DESCRIPTION:Anmeldung direkt auf dieser Webseite\, oder persönlich in der 
 Hebammenpraxis der City-Hebammen.
LOCATION:City-Hebammen Bad Driburg\, Lange Straße 106\, Bad Driburg\, 3301
 4\, Deutschland
X-APPLE-STRUCTURED-LOCATION;VALUE=URI;X-ADDRESS=Lange Straße 106\, Bad Dri
 burg\, 33014\, Deutschland;X-APPLE-RADIUS=100;X-TITLE=City-Hebammen Bad Dr
 iburg:geo:0,0
END:VEVENT
BEGIN:VTIMEZONE
TZID:Europe/Berlin
X-LIC-LOCATION:Europe/Berlin
BEGIN:STANDARD
DTSTART:20191027T020000
TZOFFSETFROM:+0200
TZOFFSETTO:+0100
TZNAME:CET
END:STANDARD
END:VTIMEZONE
END:VCALENDAR