BEGIN:VCALENDAR
VERSION:2.0
PRODID:-//wp-events-plugin.com//7.2.3.1//EN
TZID:Europe/Berlin
X-WR-TIMEZONE:Europe/Berlin
BEGIN:VEVENT
UID:168@jan-niklas-spiegel.de
DTSTART;TZID=Europe/Berlin:20221205T170000
DTEND;TZID=Europe/Berlin:20221205T200000
DTSTAMP:20220725T103108Z
URL:https://jan-niklas-spiegel.de/events/kindernotfalltraining-65/
SUMMARY:Kindernotfalltraining
DESCRIPTION:\n\nDie Fortbildung findet unter Einhaltung der zu diesem Zeitp
 unkt gültigen Hygienemaßnahmen statt.\n\n&nbsp\;\nAnmeldeschluss: 02.12.
 2022
CATEGORIES:Kindernotfalltraining
LOCATION:Physio- Sporttherapie & Reha Wille Schrick GbR\, Sonnenbreite 5\, 
 Beverungen\, 37688\, Deutschland
X-APPLE-STRUCTURED-LOCATION;VALUE=URI;X-ADDRESS=Sonnenbreite 5\, Beverungen
 \, 37688\, Deutschland;X-APPLE-RADIUS=100;X-TITLE=Physio- Sporttherapie & 
 Reha Wille Schrick GbR:geo:0,0
END:VEVENT
BEGIN:VTIMEZONE
TZID:Europe/Berlin
X-LIC-LOCATION:Europe/Berlin
BEGIN:STANDARD
DTSTART:20221030T020000
TZOFFSETFROM:+0200
TZOFFSETTO:+0100
TZNAME:CET
END:STANDARD
END:VTIMEZONE
END:VCALENDAR