BEGIN:VCALENDAR
VERSION:2.0
PRODID:-//wp-events-plugin.com//7.2.3.1//EN
TZID:Europe/Berlin
X-WR-TIMEZONE:Europe/Berlin
BEGIN:VEVENT
UID:424@jan-niklas-spiegel.de
DTSTART;TZID=Europe/Berlin:20241021T090000
DTEND;TZID=Europe/Berlin:20241021T161500
DTSTAMP:20240419T103829Z
URL:https://jan-niklas-spiegel.de/events/hebammenfortbildung-versorgung-de
 s-kritisch-kranken-kindes-25/
SUMMARY:Hebammenfortbildung - Versorgung des kritisch kranken Kindes
DESCRIPTION:\n\nNotfallmanagement für Hebammen - Versorgung des kritisch k
 ranken Kindes\n\n&nbsp\;\n\n\n\n\neilnehmerzahl:&nbsp\;&nbsp\;&nbsp\;&nbsp
 \;&nbsp\;&nbsp\;&nbsp\;&nbsp\;&nbsp\;&nbsp\;&nbsp\;&nbsp\; 8 – 18 Teilne
 hmer/innen\n\nKosten:&nbsp\; &nbsp\; &nbsp\; &nbsp\; &nbsp\; &nbsp\; &nbsp
 \; &nbsp\; &nbsp\; &nbsp\; &nbsp\; &nbsp\; &nbsp\; 169€\n\nVerpflegung:&
 nbsp\; &nbsp\; &nbsp\; &nbsp\; &nbsp\; &nbsp\; &nbsp\; &nbsp\; Getränke\,
  Kaffee\, Kekse\n\nAnmeldeschluss:&nbsp\; &nbsp\; &nbsp\; &nbsp\; &nbsp\;1
 4. Oktober 2024\n\nInhalte:\n\n 	Ersteinschätzung des kritisch kranken Ki
 ndes\n 	Prioritätenorientierte Patientenversorgung (ABCDE – „treat fi
 rst what kills first“)\n 	aktuelle Leitlinien und Versorgungskonzepte (B
 asisreanimation + erweiterte Maßnahmen)\n 	Praxistraining Wiederbelebung 
 in Stationsausbildung\n 	Praxistraining Fremdkörperaspiration\n\nDie Vera
 nstaltung wurde durch das Gesundheitsamt des Kreis Höxter zertifiziert un
 d ist gemäß §7 HebBo NRW anerkannt (8 Notfallstunden).\n\n\n\n
CATEGORIES:Hebammenfortbildung
LOCATION:Hebammenpraxis Oranienstraße\, Oranienstraße 2\, Frankfurt an Ma
 in\, 60439\, Deutschland
X-APPLE-STRUCTURED-LOCATION;VALUE=URI;X-ADDRESS=Oranienstraße 2\, Frankfur
 t an Main\, 60439\, Deutschland;X-APPLE-RADIUS=100;X-TITLE=Hebammenpraxis 
 Oranienstraße:geo:0,0
END:VEVENT
BEGIN:VTIMEZONE
TZID:Europe/Berlin
X-LIC-LOCATION:Europe/Berlin
BEGIN:DAYLIGHT
DTSTART:20240331T030000
TZOFFSETFROM:+0100
TZOFFSETTO:+0200
TZNAME:CEST
END:DAYLIGHT
END:VTIMEZONE
END:VCALENDAR