BEGIN:VCALENDAR
VERSION:2.0
PRODID:-//wp-events-plugin.com//7.2.3.1//EN
TZID:Europe/Berlin
X-WR-TIMEZONE:Europe/Berlin
BEGIN:VEVENT
UID:93@jan-niklas-spiegel.de
DTSTART;TZID=Europe/Berlin:20210413T090000
DTEND;TZID=Europe/Berlin:20210413T161500
DTSTAMP:20210326T091604Z
URL:https://jan-niklas-spiegel.de/events/hebammenfortbildung-26/
SUMMARY:Hebammenfortbildung
DESCRIPTION:\n\nNotfallmanagement für Hebammen - Versorgung des kritisch k
 ranken Kindes\nDie Fortbildung findet unter Einhaltung der zu diesem Zeitp
 unkt gültigen Hygienemaßnahmen statt.\nAus diesem Grund können wir leid
 er nur eine begrenzte Personenanzahl zulassen – also\, schnell sein lohn
 t sich.\n\n&nbsp\;\n\n\nEinige Regelungen einmal vorab:\n\n\n1) Nehmen Sie
  nicht an der Veranstaltung teil\, wenn Sie Kontakt zu einem an COVID-19 e
 rkrankten Patienten hatten.\n\n\n2) Nehmen Sie nicht an der Veranstaltung 
 teil\, wenn Sie sich krank fühlen\, oder Krankheitssymptome zeigen (z.B. 
 Fieber\, Erbrechen\, Husten\, Schnupfen o.ä.)\n\n\n3) Bringen Sie eine Mu
 nd-Nasen-Maske zur Hebammenfortbildung mit.\n\n\n4) Achten Sie auf den Sic
 herheitsabstand von 1\,5m.\n&nbsp\;\n\nTeilnehmerzahl:&nbsp\;&nbsp\;&nbsp\
 ;&nbsp\;&nbsp\;&nbsp\;&nbsp\;&nbsp\;&nbsp\;&nbsp\;&nbsp\;&nbsp\; 8 – 18 
 Teilnehmer\n\nKosten:&nbsp\;&nbsp\;&nbsp\;&nbsp\;&nbsp\;&nbsp\;&nbsp\;&nbs
 p\;&nbsp\;&nbsp\;&nbsp\;&nbsp\;&nbsp\;&nbsp\;&nbsp\;&nbsp\;&nbsp\;&nbsp\;&
 nbsp\;&nbsp\;&nbsp\;&nbsp\;&nbsp\;&nbsp\;&nbsp\;&nbsp\;&nbsp\;&nbsp\; 139
 €/Person\n\nVerpflegung:&nbsp\;&nbsp\;&nbsp\;&nbsp\;&nbsp\;&nbsp\;&nbsp\
 ;&nbsp\;&nbsp\;&nbsp\;&nbsp\;&nbsp\;&nbsp\;&nbsp\;&nbsp\;&nbsp\;&nbsp\;&nb
 sp\; Getränke\, Kaffee\, Kekse\n\nDer Tagungsort bietet Ihnen eine lecker
 es\, jahreszeitliches Gericht zum Mittagessen an. Dieses kostet 10 € bru
 tto pro Person.\nWir bitten Sie\, uns bei ihrer Buchung mitzuteilen\, ob S
 ie am Mittagessen teilnhemen möchten.\nSie erhalten selbstverständlich e
 inen Beleg für ihre Steuererklärung.\n\nDozenten:&nbsp\;&nbsp\;&nbsp\;&n
 bsp\;&nbsp\;&nbsp\;&nbsp\;&nbsp\;&nbsp\;&nbsp\;&nbsp\;&nbsp\;&nbsp\;&nbsp\
 ;&nbsp\;&nbsp\;&nbsp\;&nbsp\;&nbsp\;&nbsp\;&nbsp\;&nbsp\;&nbsp\; Jan-Nikla
 s Spiegel (Notfallsanitäter &amp\; Praxisanleiter)\n\nAnmeldeschluss:&nbs
 p\;&nbsp\;&nbsp\;&nbsp\;&nbsp\;&nbsp\;&nbsp\;&nbsp\;&nbsp\;&nbsp\; 4. Apri
 l 2021\n\nInhalte:\n\n 	Ersteinschätzung des kritisch kranken Kindes\n 	P
 rioritätenorientierte Patientenversorgung (ABCDE – „treat first what 
 kills first“)\n 	aktuelle Leitlinien und Versorgungskonzepte (Basisreani
 mation + erweiterte Maßnahmen)\n 	Praxistraining Wiederbelebung in Statio
 nsausbildung\n 	Praxistraining Fremdkörperaspiration\n\nDie Veranstaltung
  wurde durch das Gesundheitsamt des Kreis Höxter zertifiziert und ist gem
 äß §7 HebBo NRW anerkannt (8 Notfallstunden).
LOCATION:Restaurant Löseke - Tagungsbereich\, Sonnenbrink 2\, Brakel\, 330
 34\, Deutschland
X-APPLE-STRUCTURED-LOCATION;VALUE=URI;X-ADDRESS=Sonnenbrink 2\, Brakel\, 33
 034\, Deutschland;X-APPLE-RADIUS=100;X-TITLE=Restaurant Löseke - Tagungsb
 ereich:geo:0,0
END:VEVENT
BEGIN:VTIMEZONE
TZID:Europe/Berlin
X-LIC-LOCATION:Europe/Berlin
BEGIN:DAYLIGHT
DTSTART:20210328T030000
TZOFFSETFROM:+0100
TZOFFSETTO:+0200
TZNAME:CEST
END:DAYLIGHT
END:VTIMEZONE
END:VCALENDAR