BEGIN:VCALENDAR
VERSION:2.0
PRODID:-//wp-events-plugin.com//7.2.3.1//EN
TZID:Europe/Berlin
X-WR-TIMEZONE:Europe/Berlin
BEGIN:VEVENT
UID:89@jan-niklas-spiegel.de
DTSTART;TZID=Europe/Berlin:20211012T090000
DTEND;TZID=Europe/Berlin:20211012T161500
DTSTAMP:20210920T070121Z
URL:https://jan-niklas-spiegel.de/events/hebammenfortbildung-23/
SUMMARY:Hebammenfortbildung
DESCRIPTION:\n\nNotfallmanagement für Hebammen - Versorgung des kritisch k
 ranken Kindes\n\n\nDie Fortbildung findet unter Einhaltung der zu diesem Z
 eitpunkt gültigen Hygienemaßnahmen statt.\nAus diesem Grund können wir 
 leider nur eine begrenzte Personenanzahl zulassen – also\, schnell sein 
 lohnt sich.\n\n\n&nbsp\;\nEinige Regelungen einmal vorab:\n\n\n1) Bitte ei
 nen GGG-Nachweis (Geimpft/Getestest/Genesen) zur Teilnahme an der Fortbild
 ung mitbringen\, da eine Teilnahme sonst leider nicht möglich ist.\n2) Ne
 hmen Sie nicht an der Veranstaltung teil\, wenn Sie Kontakt zu einem an CO
 VID-19 erkrankten Patienten hatten.\n\n\n3) Nehmen Sie nicht an der Verans
 taltung teil\, wenn Sie sich krank fühlen\, oder Krankheitssymptome zeige
 n (z.B. Fieber\, Erbrechen\, Husten\, Schnupfen o.ä.)\n\n\n4) Bringen Sie
  eine medizinische Mund-Nasen-Maske zur Veranstaltung mit.\n&nbsp\;\n\n\n\
 nTeilnehmerzahl:&nbsp\;&nbsp\;&nbsp\;&nbsp\;&nbsp\;&nbsp\;&nbsp\;&nbsp\;&n
 bsp\;&nbsp\;&nbsp\;&nbsp\; 8 – 18 Teilnehmer\n\nKosten:&nbsp\;&nbsp\;&nb
 sp\;&nbsp\;&nbsp\;&nbsp\;&nbsp\;&nbsp\;&nbsp\;&nbsp\;&nbsp\;&nbsp\;&nbsp\;
 &nbsp\;&nbsp\;&nbsp\;&nbsp\;&nbsp\;&nbsp\;&nbsp\;&nbsp\;&nbsp\;&nbsp\;&nbs
 p\;&nbsp\;&nbsp\;&nbsp\;&nbsp\; 169€/Person\n\nVerpflegung:&nbsp\;&nbsp\
 ;&nbsp\;&nbsp\;&nbsp\;&nbsp\;&nbsp\;&nbsp\;&nbsp\;&nbsp\;&nbsp\;&nbsp\;&nb
 sp\;&nbsp\;&nbsp\;&nbsp\;&nbsp\;&nbsp\; Getränke\, Kaffee\, Kekse\n\nDer 
 Tagungsort bietet Ihnen im hauseigenen Restaurant die Möglichkeit eines k
 leinen Snacks\, oder auch eines reichhaltigen Mittagessen.\nDiese Kosten s
 ind selbst zu tragen\, allerdings ist ein Beleg für die Steuererklärung 
 kein Problem.\n\nDozent:&nbsp\;&nbsp\;&nbsp\;&nbsp\;&nbsp\;&nbsp\;&nbsp\;&
 nbsp\;&nbsp\;&nbsp\;&nbsp\;&nbsp\;&nbsp\;&nbsp\;&nbsp\;&nbsp\;&nbsp\;&nbsp
 \;&nbsp\;&nbsp\;&nbsp\;&nbsp\;&nbsp\;&nbsp\;&nbsp\;&nbsp\;&nbsp\;&nbsp\; J
 an-Niklas Spiegel (Notfallsanitäter &amp\; Praxisanleiter)\n\nAnmeldeschl
 uss:&nbsp\;&nbsp\;&nbsp\;&nbsp\;&nbsp\;&nbsp\;&nbsp\;&nbsp\;&nbsp\; 05. Ok
 tober 2021\n\nInhalte:\n\n 	Ersteinschätzung des kritisch kranken Kindes\
 n 	Prioritätenorientierte Patientenversorgung (ABCDE – „treat first w
 hat kills first“)\n 	aktuelle Leitlinien und Versorgungskonzepte (Basisr
 eanimation + erweiterte Maßnahmen)\n 	Praxistraining Wiederbelebung in St
 ationsausbildung\n 	Praxistraining Fremdkörperaspiration\n\nDie Veranstal
 tung wird unter den Vorgaben von §8 SächsGVBl durchgeführt (8 Notfallst
 unden).
LOCATION:Holiday Inn Dresden - City South\, Bamberger Straße 14\, Dresden\
 , Sachsen\, 01187\, Deutschland
X-APPLE-STRUCTURED-LOCATION;VALUE=URI;X-ADDRESS=Bamberger Straße 14\, Dres
 den\, Sachsen\, 01187\, Deutschland;X-APPLE-RADIUS=100;X-TITLE=Holiday Inn
  Dresden - City South:geo:0,0
END:VEVENT
BEGIN:VTIMEZONE
TZID:Europe/Berlin
X-LIC-LOCATION:Europe/Berlin
BEGIN:DAYLIGHT
DTSTART:20210328T030000
TZOFFSETFROM:+0100
TZOFFSETTO:+0200
TZNAME:CEST
END:DAYLIGHT
END:VTIMEZONE
END:VCALENDAR